Workbook

Sheet Summary
C3: 2027 BIA AWARD EVALUATION FORM
G5: (Office use Only) Judges:
D9: Results: | E9: =IF(Q33>=85%,"X","") | F9: Excellence 85% | I9: =IF(AND(Q33>=70%,Q33<85%),"X","") | J9: Merit 70% | K9: =IF(Q33<70%,"X","") -> X | L9: No Award
C11: Pillar: | J11: Category Name:
C13: Entrants Name: | J13: Entry Title:
C15: Work Plan
C16: 1. Was the initiative innovative? If it was a project duplicated from another BIA, was there a unique spin put on it? | Q16: ='Evaluation + Score Guide'!E4 -> 0
C17: 2. Were the goal and measurable objectives clearly stated and tied back to the organization's needs? | Q17: ='Evaluation + Score Guide'!E5 -> 0
C18: 3. How effective was the project implementation? | Q18: ='Evaluation + Score Guide'!E8 -> 0
C19: 4. How well were the initiative's goal and objectives met? | Q19: ='Evaluation + Score Guide'!E11 -> 0 | T19: This is the summary of the Evaluation Form. Some cells are linked with formulas, so the only cells to fill out on this tab are those highlighted in grey.
C20: 5. Is the initiative replicable? | Q20: ='Evaluation + Score Guide'!E14 -> 0
C21: 6. Were all of the following items included in the submission? Need or opportunity, target audience, budget, partnerships, accessibility, and results. | Q21: ='Evaluation + Score Guide'!E15 -> 0
C22: 7. How successful were they at identifying barriers (i.e. funding, staffing, timing etc.) and how they overcame them? | Q22: ='Evaluation + Score Guide'!E16 -> 0
C23: 8. How well did members engage with this initiative and what were the benefits to them? | Q23: ='Evaluation + Score Guide'!E17 -> 0
O25: Work Plan Score | Q25: =SUM(Q16:Q23) -> 0
C26: Samples/Supplemental Materials
C27: 1. How well do the materials reflect the objectives in the work plan? | Q27: ='Evaluation + Score Guide'!E18 -> 0 | T27: To enter scores for each question, please go to the "Evaluation + Score Guide" tab.
C28: 2. To what extent do the materials show imagination, innovation, uniqueness, and/or creativity? | Q28: ='Evaluation + Score Guide'!E19 -> 0
M30: Supplemental Materials Score | Q30: =SUM(Q27:Q28) -> 0
E33: =Q25 -> 0 | F33: (A) + | G33: =Q30 -> 0 | H33: (B) = | I33: =E33+G33 -> 0 | O33: FINAL SCORE | Q33: =(I33*2)/100 -> 0
C36: Comments/Constructive Feedback
C37: Entry's greatest strength:
C44: Could be strengthened by:

Sheet Evaluation + Score Guide
A1: Please fill in your scores here (Column E). Scores range from 1-5, 1 being poor, and 5 being Outstanding (see Score Guide). Scores will automatically populate and calculate in the Summary sheet.
A2: *Judges please note that if an entrants is from a BIA with a smaller levy / staff capacity then leniency should be applied. | G2: Not adressed in application | H2: A generally inadequate approach or result | I2: An adequate approach or result; professionally competent but not exceptional | J2: Better than average | K2: An extraordinary or insightful approach or result
A3: # | B3: Evaluation Criteria | C3: Section | D3: Question | E3: Score | G3: 1 – Poor | H3: 2 – Inadequate | I3: 3 – Average | J3: 4 – Above Average | K3: 5 – Outstanding
A4: 1 | B4: Was the initiative innovative? If it was a project duplicated from another BIA, was there a unique spin put on it? | C4: Implementation | D4: What made it innovative (if it isn't a new idea what was the new spin)? | G4: No unique spin and no extra steps taken to make it their own | H4: Some unique elements | I4: Identifies how this initiative was innovative or unique to their BIA | J4: Clearly identifies the steps they took to create/add a unique spin to the initiative | K4: Brand new idea/initiative or someone else's idea but a completely new spin that made it successful
A5: 2 | B5: Were the goal and measurable objectives clearly stated and tied back to the organization's needs? | C5: Need or Opportunity | D5: Describe why this initiative was undertaken – what strategic goal was it addressing for your organization/community? | G5: Not clearly stated | H5: Objectives were immeasurable and/or not tied back to the organization's needs | I5: The organization's needs, the goal, and the measurable objectives of the initiative are mentioned | J5: Clearly identifies the organization's needs, the goal, and measurable objectives of the initiative | K5: Clearly identifies the goals and measurable objectives and they are clearly tied back to the organization's needs
C6: Need or Opportunity | D6: What was the need or opportunity that presented itself that only this project could address? In other words, why now and why this project.
C7: Goal and Objectives | D7: List the measurable objectives - SMART
A8: 3 | B8: How effective was the project implementation? | C8: Implementation | D8: Describe the initiative and how you developed, created, or implemented your project. | G8: Not clearly stated | H8: Project implementation is mentioned but no clear plan is identified | I8: Identifies some aspects of project implementation but could be clearer | J8: Clearly identifies the project implementation | K8: Clearly identifies the strategic thinking undertaken to develop the implementation plan. Submission included copy of work plan or marketing plan.
D9: What partners, staff or volunteers were involved and how?
D10: Identify how you worked with the Municipality/BIA in order to implement this initiative?
A11: 4 | B11: How well were the initiative's goal and objectives met? | C11: Results | D11: Measuring against the objectives you set, what were the measurable outcomes of the initiative? | G11: Not clearly stated | H11: Measurements identified but didn't match goal and objectives | I11: Identifies some measurements for evaluating goal and objectives but could be clearer | J11: Clearly identifies all measurements for evaluating goal and objectives | K11: Clearly identifies formal evaluation method for measuring goal and objectives. Response was above and beyond requirements.
D12: How did you measure your success?
D13: What were the benefits to your defined audience?
A14: 5 | B14: Is the initiative replicable? | C14: Implementation | D14: Provide enough details so others can replicate your specific success. Be sure to include your budget. | G14: Submission missing all basic items (plan, budget, steps i.e. main criteria required for submission) for a BIA to be able to replicate initiative. | H14: Submission has some of the basic items (plan, budget, steps) but it would be challenging for a BIA to replicate this initiative with the information provided. | I14: Submission has enough basic information (steps, budget, plan) that a BIA could use to replicate initiative | J14: Submission's components (steps, budget, plan) are clear enough to replicate the initiative. Provides tips for funding sources | K14: Submission has a clearly documented plan, budget, and steps identified for a BIA to replicate initiative easily. Provides tips on how to bring partners on board and funding sources. Response was above and beyond requirements.
A15: 6 | B15: Were all the following items included in the submission? Need or opportunity, target audience, budget, partnerships, accessibility, and results. | C15: Need or Opportunity, Audience, Implementation, Results | D15: Implementation: How did you ensure accessibility for your audience if applicable? | G15: Only a few items (1-3) were included | H15: Most items (4-6) were included | I15: All items were included but more detail could have been provided | J15: All items were clearly identified | K15: All items were clearly identified as well as steps used to create/obtain them. Response was above and beyond requirements.
A16: 7 | B16: How successful were they at identifying barriers (i.e. budget, capacity, resources, oppositions etc.) and how they overcame them? | C16: Implementation | D16: What challenges (i.e. budget, capacity, resources, oppositions…) , if any, did you encounter and how did you overcome them? | G16: Barriers not identified | H16: Barriers identified but no solutions outlined | I16: Barriers identified and some solutions outlined but could be clearer | J16: Barriers identified and all solutions outlined clearly | K16: Barriers clearly identified and concrete examples of solutions outlined. Response was above and beyond requirements.
A17: 8 | B17: How well did members engage with this initiative and what were the benefits to them? | C17: Implementation | D17: How did members take part, and what did they gain? Did you reach a broad mix or a specific group, and how did you engage them? | G17: Not clearly stated | H17: Some information provided | I17: Identifies member engagement and benefits but could be clearer | J17: Clearly identifies member engagement and benefits as well as how this was determined (i.e. surveys) | K17: Clearly identifies specific details on member engagement and tangible benefits as well as how members were engaged. Response was above and beyond requirements.
A18: 9 | B18: How well do the materials reflect the objectives in the work plan? | C18: Supplemental Materials | G18: Materials do not reflect the objectives identified | H18: Materials reflect inconsistent messaging | I18: Materials reflect some objectives identified | J18: Materials reflect most of the objectives identified | K18: Materials reflect all the objectives identified
A19: 10 | B19: To what extent do the materials show imagination, innovation, uniqueness, and/or creativity? | C19: Supplemental Materials | G19: Materials look like something from a template and/or don't stand out | H19: Materials indicate that some thought has been put into making them imaginative, innovative, unique, and/or creative, but they didn't quite hit the mark | I19: Materials show some imagination, innovation, uniqueness, and/or creativity | J19: Materials are mostly imaginative, innovative, unique, and/or creative with some elements borrowed from elsewhere | K19: Materials are unique, creative, and professional and fit well with the initiative
E20: =SUM(E4:E19) -> 0

Sheet For Admin
A1: Master Category | B1: Award Category | C1: Name of Submission | D1: Member Name | E1: Score | I1: Pillars | K1: Categories
A2: =Summary!D11 -> 0 | B2: =Summary!K11 -> 0 | C2: =Summary!K13 -> 0 | D2: =Summary!D13 -> 0 | E2: =Summary!Q33 -> 0 | I2: Economic Development | K2: Advocacy & Governance
I3: Leadership & Management | K3: Alex Ling Lifetime Achievement
I4: Legacy | K4: Business Retention, Recruitment & Expansion
I5: Marketing & Promotions | K5: Communications
I6: Public Realm | K6: Economic Resilience & Community Building
K7: Jan Hawley Memorial Pinnacle
K8: Marketing
K9: Operations
K10: Special Events
K11: Streetscaping & Public Realm Improvements
